BEGIN:VCALENDAR
VERSION:2.0
PRODID:-//EFL Magazine - ECPv6.15.20//NONSGML v1.0//EN
CALSCALE:GREGORIAN
METHOD:PUBLISH
X-WR-CALNAME:EFL Magazine
X-ORIGINAL-URL:https://eflmagazine.com
X-WR-CALDESC:Events for EFL Magazine
REFRESH-INTERVAL;VALUE=DURATION:PT1H
X-Robots-Tag:noindex
X-PUBLISHED-TTL:PT1H
BEGIN:VTIMEZONE
TZID:Asia/Tokyo
BEGIN:STANDARD
TZOFFSETFROM:+0900
TZOFFSETTO:+0900
TZNAME:JST
DTSTART:20240101T000000
END:STANDARD
END:VTIMEZONE
BEGIN:VEVENT
DTSTART;TZID=Asia/Tokyo:20250216T090000
DTEND;TZID=Asia/Tokyo:20250216T210000
DTSTAMP:20260420T072928
CREATED:20250109T021830Z
LAST-MODIFIED:20250109T021830Z
UID:814859-1739696400-1739739600@eflmagazine.com
SUMMARY:1st Annual English Educators' Extravaganza - Osaka
DESCRIPTION:SPREADING SMILES\n\n\nWelcome to the official event page for the 1st Annual English Educators’ EXTRAVAGANZA – Osaka. This will be a day of workshops\, discussions\, and fun. \nIn addition to the serious stuff\, you can look forward to a raffle\, stamp rally\, and several\, “Vibe Times” throughout the day. The main event will be followed by a casual social in the same space so folks can socialize and connect more deeply.
URL:https://eflmagazine.com/event/1st-annual-english-educators-extravaganza-osaka/
LOCATION:The Yellow Shrimp\, 〒598-0051 Osaka\,\, Shinmachi\,\, Osaka\, 2 Chome−5187-101 2F
CATEGORIES:Events in Japan
ATTACH;FMTTYPE=image/jpeg:https://eflmagazine.com/wp-content/uploads/2025/01/IELTS-25.jpg
END:VEVENT
END:VCALENDAR