BEGIN:VCALENDAR
VERSION:2.0
PRODID:-//EFL Magazine - ECPv6.15.20//NONSGML v1.0//EN
CALSCALE:GREGORIAN
METHOD:PUBLISH
X-WR-CALNAME:EFL Magazine
X-ORIGINAL-URL:https://eflmagazine.com
X-WR-CALDESC:Events for EFL Magazine
REFRESH-INTERVAL;VALUE=DURATION:PT1H
X-Robots-Tag:noindex
X-PUBLISHED-TTL:PT1H
BEGIN:VTIMEZONE
TZID:Asia/Tokyo
BEGIN:STANDARD
TZOFFSETFROM:+0900
TZOFFSETTO:+0900
TZNAME:JST
DTSTART:20220101T000000
END:STANDARD
END:VTIMEZONE
BEGIN:VTIMEZONE
TZID:Europe/Rome
BEGIN:DAYLIGHT
TZOFFSETFROM:+0100
TZOFFSETTO:+0200
TZNAME:CEST
DTSTART:20230326T010000
END:DAYLIGHT
BEGIN:STANDARD
TZOFFSETFROM:+0200
TZOFFSETTO:+0100
TZNAME:CET
DTSTART:20231029T010000
END:STANDARD
BEGIN:DAYLIGHT
TZOFFSETFROM:+0100
TZOFFSETTO:+0200
TZNAME:CEST
DTSTART:20240331T010000
END:DAYLIGHT
BEGIN:STANDARD
TZOFFSETFROM:+0200
TZOFFSETTO:+0100
TZNAME:CET
DTSTART:20241027T010000
END:STANDARD
BEGIN:DAYLIGHT
TZOFFSETFROM:+0100
TZOFFSETTO:+0200
TZNAME:CEST
DTSTART:20250330T010000
END:DAYLIGHT
BEGIN:STANDARD
TZOFFSETFROM:+0200
TZOFFSETTO:+0100
TZNAME:CET
DTSTART:20251026T010000
END:STANDARD
END:VTIMEZONE
BEGIN:VTIMEZONE
TZID:Europe/Madrid
BEGIN:DAYLIGHT
TZOFFSETFROM:+0100
TZOFFSETTO:+0200
TZNAME:CEST
DTSTART:20230326T010000
END:DAYLIGHT
BEGIN:STANDARD
TZOFFSETFROM:+0200
TZOFFSETTO:+0100
TZNAME:CET
DTSTART:20231029T010000
END:STANDARD
BEGIN:DAYLIGHT
TZOFFSETFROM:+0100
TZOFFSETTO:+0200
TZNAME:CEST
DTSTART:20240331T010000
END:DAYLIGHT
BEGIN:STANDARD
TZOFFSETFROM:+0200
TZOFFSETTO:+0100
TZNAME:CET
DTSTART:20241027T010000
END:STANDARD
BEGIN:DAYLIGHT
TZOFFSETFROM:+0100
TZOFFSETTO:+0200
TZNAME:CEST
DTSTART:20250330T010000
END:DAYLIGHT
BEGIN:STANDARD
TZOFFSETFROM:+0200
TZOFFSETTO:+0100
TZNAME:CET
DTSTART:20251026T010000
END:STANDARD
END:VTIMEZONE
BEGIN:VEVENT
DTSTART;VALUE=DATE:20240301
DTEND;VALUE=DATE:20240304
DTSTAMP:20260420T151204
CREATED:20240117T081739Z
LAST-MODIFIED:20240117T081739Z
UID:811361-1709251200-1709510399@eflmagazine.com
SUMMARY:RTECONF\, 2024
DESCRIPTION:The 8th International Conference on Research in Teaching and Education promises to be an engaging and enriching event\, welcoming participants from diverse countries such as South Africa\, New Zealand\, Greece\, Canada\, Poland\, Peru\, Kenya\, Sweden\, the United Kingdom\, and more. The organizers aim to expand the conference\, making it even more comprehensive and impactful. \nAttendees should not miss the opportunity to participate in this global forum\, where renowned academics\, scholars\, leaders of for- and non-profit organizations\, and researchers converge. The conference offers a platform to observe talented speakers\, engage in immersive discussions on common challenges in education and teaching\, and initiate conversations about integrating the latest technologies and innovative methods in these fields. \nThe organizers encourage active involvement\, suggesting attendees become speakers\, collaborate with peers\, and explore opportunities to get published in esteemed academic journals. The conference aims to incorporate interactive sessions\, theme-based tracks\, virtual participation options\, and opportunities for researchers to showcase their work. Keynote speakers\, social events\, and networking sessions further enhance the collaborative and inspiring atmosphere. A feedback mechanism is in place to continuously improve future conferences\, ensuring a dynamic and evolving platform for discussions and advancements in teaching and education.
URL:https://eflmagazine.com/event/rteconf-2024/
LOCATION:Hotel KAISERHOF Vienna\, Frankenberggasse 10\, Vienna\, 1040\, Austria
CATEGORIES:Events in Austria
ATTACH;FMTTYPE=image/png:https://eflmagazine.com/wp-content/uploads/2024/01/Untitled-design-42.png
END:VEVENT
BEGIN:VEVENT
DTSTART;TZID=Asia/Tokyo:20240225T103000
DTEND;TZID=Asia/Tokyo:20240225T173000
DTSTAMP:20260420T151204
CREATED:20231206T071858Z
LAST-MODIFIED:20231206T071858Z
UID:810386-1708857000-1708882200@eflmagazine.com
SUMMARY:Chubu Expo
DESCRIPTION:Chubu Expo \nSunday February 25\, 2024 \nSugiyama Jogakuen University\, Nagoya
URL:https://eflmagazine.com/event/chubu-expo/
LOCATION:Sugiyama Jogakuen University\, Nagoya\, Japan
CATEGORIES:Events in Japan
ATTACH;FMTTYPE=image/png:https://eflmagazine.com/wp-content/uploads/2023/11/2-1.png
ORGANIZER;CN="ETJ":MAILTO:http://ltprofessionals.com/contact-etj/
END:VEVENT
BEGIN:VEVENT
DTSTART;VALUE=DATE:20240223
DTEND;VALUE=DATE:20240226
DTSTAMP:20260420T151204
CREATED:20240118T044251Z
LAST-MODIFIED:20240118T044251Z
UID:811382-1708646400-1708905599@eflmagazine.com
SUMMARY:7th World Conference on Research in Education
DESCRIPTION:The 7th World Conference on Research in Education (WORLDCRE 2024) is poised to take place in Milan from the 23rd to the 25th of February. The conference serves as a significant platform for academics\, researchers\, scholars\, and leaders to convene and discuss the latest advancements in research\, innovation\, and technology within the field of education. \nWith attendees and speakers hailing from various parts of the world\, WORLDCRE 2024 has witnessed success in previous years. The organizers aim to capitalize on past achievements and feedback\, striving to make this edition even more substantial and beneficial. \nEmphasizing the continuous evolution of education\, the conference provides a diverse and versatile platform for the exchange of information\, ideas\, and methodologies. It encourages participants to engage in discussions surrounding global and national concerns and issues in education. \nThe conference offers a unique opportunity for individuals to interact with a proficient academic community\, present their work or findings\, and potentially get published in reputable academic journals. For those interested in staying abreast of the latest developments in education\, WORLDCRE 2024 promises an enriching experience in Milan.
URL:https://eflmagazine.com/event/7th-world-conference-on-research-in-education/
LOCATION:CITY LIFE HOTEL POLIZIANO\, Via Angelo Poliziano\, Milano\, 111 20154\, Italy
CATEGORIES:Events in Italy
ATTACH;FMTTYPE=image/png:https://eflmagazine.com/wp-content/uploads/2024/01/Untitled-design-43.png
END:VEVENT
BEGIN:VEVENT
DTSTART;VALUE=DATE:20240220
DTEND;VALUE=DATE:20240221
DTSTAMP:20260420T151204
CREATED:20240116T084134Z
LAST-MODIFIED:20240116T084134Z
UID:811337-1708387200-1708473599@eflmagazine.com
SUMMARY:6th SAN SEBASTIÁN ELT CONFERENCE
DESCRIPTION:The Language Testing Services (LTS) initiated the conference in 2017\, aiming to provide individuals involved in English language teaching an opportunity to stay updated on the latest industry developments. Over the years\, six conferences have been organized\, featuring an impressive lineup of ELT professionals whose contributions ensured the success of each event. Once again\, this year sees the honor of hosting a diverse array of speakers\, all esteemed experts in their respective fields. \nThe collaboration with sponsors\, who have been steadfast supporters since the inception\, has played a crucial role in making these conferences possible. These sponsors have not only supported the initiative from the outset but have also facilitated the inclusion of world-class speakers in the events held in the Basque Country. Additionally\, deep gratitude is extended to the hundreds of teachers who attended these conferences\, contributing significantly to the creation of memorable and impactful days.
URL:https://eflmagazine.com/event/6th-san-sebastian-elt-conference/
LOCATION:Science and Technology Park of Guipuzkoa\, Donostia\, San Sebastian\, 72R8+Q2\, Spain
CATEGORIES:Events in Spain
ATTACH;FMTTYPE=image/png:https://eflmagazine.com/wp-content/uploads/2024/01/Untitled-design-38.png
END:VEVENT
BEGIN:VEVENT
DTSTART;TZID=Asia/Tokyo:20240203T103000
DTEND;TZID=Asia/Tokyo:20240204T173000
DTSTAMP:20260420T151204
CREATED:20231206T071635Z
LAST-MODIFIED:20231206T071635Z
UID:810383-1706956200-1707067800@eflmagazine.com
SUMMARY:Tokyo Expo
DESCRIPTION:Tokyo Expo \nSaturday/Sunday February 3/4\, 2024. \nOtsuma Women’s University\, Tokyo.
URL:https://eflmagazine.com/event/tokyo-expo/
LOCATION:Otsuma Women’s University\, Tokyo.\, Japan
CATEGORIES:Events in Japan
ATTACH;FMTTYPE=image/png:https://eflmagazine.com/wp-content/uploads/2023/11/2-1.png
END:VEVENT
BEGIN:VEVENT
DTSTART;TZID=Asia/Tokyo:20240128T100000
DTEND;TZID=Asia/Tokyo:20240128T173000
DTSTAMP:20260420T151204
CREATED:20231206T070846Z
LAST-MODIFIED:20231206T070936Z
UID:810380-1706436000-1706463000@eflmagazine.com
SUMMARY:Kansai Expo
DESCRIPTION:Kansai Expo \nSunday January 28\, 2024 \nKinrankai High School\, Osaka
URL:https://eflmagazine.com/event/kansai-expo/
LOCATION:Kinrankai High School\, Osaka\, Japan
CATEGORIES:Events in Japan
ATTACH;FMTTYPE=image/png:https://eflmagazine.com/wp-content/uploads/2023/11/2-1.png
ORGANIZER;CN="ETJ":MAILTO:http://ltprofessionals.com/contact-etj/
END:VEVENT
BEGIN:VEVENT
DTSTART;TZID=Asia/Tokyo:20240114T100000
DTEND;TZID=Asia/Tokyo:20240114T170000
DTSTAMP:20260420T151204
CREATED:20240111T052535Z
LAST-MODIFIED:20240111T052535Z
UID:811086-1705226400-1705251600@eflmagazine.com
SUMMARY:2nd Annual Independent Together - Materials Made in Japan for Japanese Learners
DESCRIPTION:Online and in-person event\n\nThe Reading Road – Where Phonics Phits (Eric Kane)\n\nWe all know that phonics can be an important skill in helping our students learn how to read\, but where does it fit in the big picture? \nIn this presentation\, we will look at the reading process as a whole before pulling back a bit to see where\, and how\, phonics instructions can help our students achieve the ultimate goal of reading to learn. \n \nGet your Students USING English! (Katie Mutter Kato)\n\nHow can you get your elementary students (and up) to really use the English they have learned so far? How can you help them create original\, authentic language? I will be sharing tips and tricks to get your students speaking and writing more!\n\n \nRSE is more than just a Game: Develop Creativity\, Confidence\, and Communication Skills. (Timothy Hill)\n\nReady\, Set\, Eigo! was created to meet a very personal need in my own school. Now one of Amazon.jp’s top recommended English games\, RSE is more than just a fun lesson activity. \nPlayers both young and old can engage in a way that helps foster strong communicative skills such as creativity\, courage\, critical thinking\, and confidence.\n\n \n\nSend your Students on a Learning Adventure with the Awesome Adventure Series! (Adam Kardos)\n\nLearning in a classroom has its limitations. Get your kids out of the classroom and into an adventure… to save the planet. Watch them jump out of their seats to say things they want to say like “The robots are coming! Let’s hide under the table!”\n\n \n\nAn Easier Way To get Young Learners Speaking Naturally (Scott Crowe)\n\n \n\nScott will show a simple way to connect a story\, songs and games to get young learners speaking more naturally. Based on years of feedback he has boiled down his method for easier implementation. He has also created more songs to help less energetic teachers shine.\n\n\nMaple Leaf Learning Library – Your Favorite Materials\, Anywhere (Kenny King) \n \nLearn how the Maple Leaf Learning Library makes lesson planning a breeze by giving educators instant access to an ever-growing catalog of professional\, battle-tested materials.\n \nEasy Fun Learning: The more you play the more you learn! (Jeff Hodsdon)\n \nIn 2018 Easy Fun Learning was born. Our first two games were Tornado! and Splat!. The next year we came out with 2 more fun games Food Fight and Get 5: Sushi and GET 5: jobs. We were blown away by all the great feedback we got from people who bought our games. We were in the process of getting our second print run out and then BANG!…the pandemic hit and took the wind out of our sales. But\, 3 years later and we are back with plans for a reprint and relaunch in 2024!\n\n\n \n\nDisplay Tables\n\n\nMaple Leaf Learning – Kenny King\nAAS Press (Gamerize Dictionary) – Adam Kardos\nELF Learning – Eric Kane\nEasy Fun English – Jeff Hodsdon\nGroovin Grizzly – Katie Mutter Kato\nScott Crowe – Nuthouse Education\nTimothy Hill – RSE Press
URL:https://eflmagazine.com/event/2nd-annual-independent-together-materials-made-in-japan-for-japanese-learners/
LOCATION:English Access Kawanishi Hyogo\, Japan
CATEGORIES:Events in Japan
ATTACH;FMTTYPE=image/jpeg:https://eflmagazine.com/wp-content/uploads/2024/01/Untitled-design-30.jpg
END:VEVENT
BEGIN:VEVENT
DTSTART;TZID=Asia/Tokyo:20231210T140000
DTEND;TZID=Asia/Tokyo:20231210T160000
DTSTAMP:20260420T151204
CREATED:20231206T081427Z
LAST-MODIFIED:20231206T081427Z
UID:810404-1702216800-1702224000@eflmagazine.com
SUMMARY:[F2F] Action Logging & Creative Writing アクションロギング & クリエイティブ・ライティング
DESCRIPTION:
URL:https://eflmagazine.com/event/f2f-action-logging-creative-writing-%e3%82%a2%e3%82%af%e3%82%b7%e3%83%a7%e3%83%b3%e3%83%ad%e3%82%ae%e3%83%b3%e3%82%b0-%e3%82%af%e3%83%aa%e3%82%a8%e3%82%a4%e3%83%86%e3%82%a3%e3%83%96%e3%83%bb/
LOCATION:Ehime University Johoku Campus
CATEGORIES:Events in Japan
ATTACH;FMTTYPE=image/png:https://eflmagazine.com/wp-content/uploads/2023/11/2.png
ORGANIZER;CN="JALT":MAILTO:https://jalt.org/contact/form
END:VEVENT
BEGIN:VEVENT
DTSTART;TZID=Asia/Tokyo:20231210T133000
DTEND;TZID=Asia/Tokyo:20231210T160000
DTSTAMP:20260420T151204
CREATED:20231206T080204Z
LAST-MODIFIED:20231206T080248Z
UID:810401-1702215000-1702224000@eflmagazine.com
SUMMARY:How to Use Roleplay to Create a Dynamic Class of Motivated Students
DESCRIPTION:
URL:https://eflmagazine.com/event/how-to-use-roleplay-to-create-a-dynamic-class-of-motivated-students/
LOCATION:Aichi University\, Japan
CATEGORIES:Events in Japan
ATTACH;FMTTYPE=image/jpeg:https://eflmagazine.com/wp-content/uploads/2023/11/1.jpg
ORGANIZER;CN="JALT":MAILTO:https://jalt.org/contact/form
END:VEVENT
BEGIN:VEVENT
DTSTART;TZID=Asia/Tokyo:20231210T100000
DTEND;TZID=Asia/Tokyo:20231210T130000
DTSTAMP:20260420T151204
CREATED:20231206T075512Z
LAST-MODIFIED:20231206T075512Z
UID:810399-1702202400-1702213200@eflmagazine.com
SUMMARY:TYL Event: Sounds\, Reading\, and Interpretation
DESCRIPTION:
URL:https://eflmagazine.com/event/tyl-event-sounds-reading-and-interpretation/
CATEGORIES:Events in Japan
ATTACH;FMTTYPE=image/jpeg:https://eflmagazine.com/wp-content/uploads/2023/11/1.jpg
ORGANIZER;CN="JALT":MAILTO:https://jalt.org/contact/form
END:VEVENT
BEGIN:VEVENT
DTSTART;TZID=Asia/Tokyo:20231210T093000
DTEND;TZID=Asia/Tokyo:20231210T223000
DTSTAMP:20260420T151204
CREATED:20231206T075114Z
LAST-MODIFIED:20231206T075114Z
UID:810397-1702200600-1702247400@eflmagazine.com
SUMMARY:Osaka JALT Annual General Meeting (AGM) online
DESCRIPTION:
URL:https://eflmagazine.com/event/osaka-jalt-annual-general-meeting-agm-online/
LOCATION:Online\, Japan
CATEGORIES:Events in Japan
ATTACH;FMTTYPE=image/jpeg:https://eflmagazine.com/wp-content/uploads/2023/11/1.jpg
ORGANIZER;CN="JALT":MAILTO:https://jalt.org/contact/form
END:VEVENT
BEGIN:VEVENT
DTSTART;VALUE=DATE:20231210
DTEND;VALUE=DATE:20231211
DTSTAMP:20260420T151204
CREATED:20231206T070538Z
LAST-MODIFIED:20231206T071952Z
UID:810377-1702166400-1702252799@eflmagazine.com
SUMMARY:Tohoku Expo
DESCRIPTION:Sunday December 10\, 2023. \nSt. Ursula Elementary and Junior High School\, Sendai. \n(in association with JALT) \nDirections: Click here \nSchool layout: Click here \nPresentation schedule: Click here \nPresentation details: Click here
URL:https://eflmagazine.com/event/tohoku-expo/
LOCATION:St. Ursula Elementary and Junior High School\, Japan
CATEGORIES:Events in Japan
ATTACH;FMTTYPE=image/png:https://eflmagazine.com/wp-content/uploads/2023/11/2-1.png
ORGANIZER;CN="ETJ":MAILTO:http://ltprofessionals.com/contact-etj/
END:VEVENT
BEGIN:VEVENT
DTSTART;TZID=Asia/Tokyo:20231209T183000
DTEND;TZID=Asia/Tokyo:20231209T193000
DTSTAMP:20260420T151204
CREATED:20231206T074611Z
LAST-MODIFIED:20231206T074611Z
UID:810394-1702146600-1702150200@eflmagazine.com
SUMMARY:Help Me Hear What I Can See: Reading While Listening\, Self-Efficacy Sources and Foreign Language Anxiety in the EFL Classroom
DESCRIPTION:
URL:https://eflmagazine.com/event/help-me-hear-what-i-can-see-reading-while-listening-self-efficacy-sources-and-foreign-language-anxiety-in-the-efl-classroom/
LOCATION:Nagoya International Center\, 4th Floor.\, 1 Chome-47-1 Nagono\, Nakamura Ward\, Nagoya\, Aichi\, 450-0001\, Japan
ATTACH;FMTTYPE=image/jpeg:https://eflmagazine.com/wp-content/uploads/2023/11/1.jpg
END:VEVENT
BEGIN:VEVENT
DTSTART;TZID=Asia/Tokyo:20231209T090000
DTEND;TZID=Asia/Tokyo:20231209T180000
DTSTAMP:20260420T151204
CREATED:20231206T074123Z
LAST-MODIFIED:20231206T074123Z
UID:810391-1702112400-1702144800@eflmagazine.com
SUMMARY:The Global Englishes SIG Online Conference 9th December 2023
DESCRIPTION:Tomokazu Ishikawa\, Associate Professor of English and Intercultural Communication at the Center for Language Studies\, Otaru University
URL:https://eflmagazine.com/event/the-global-englishes-sig-online-conference-9th-december-2023/
LOCATION:Online\, Japan
CATEGORIES:Events in Japan
ATTACH;FMTTYPE=image/jpeg:https://eflmagazine.com/wp-content/uploads/2023/11/1.jpg
ORGANIZER;CN="JALT":MAILTO:https://jalt.org/contact/form
END:VEVENT
BEGIN:VEVENT
DTSTART;TZID=Asia/Tokyo:20231124T090000
DTEND;TZID=Asia/Tokyo:20231127T170000
DTSTAMP:20260420T151204
CREATED:20231107T041522Z
LAST-MODIFIED:20231107T044857Z
UID:43480-1700816400-1701104400@eflmagazine.com
SUMMARY:JALT 2023 International Conference
DESCRIPTION:49th Annual International Conference on Language Teaching and Learning & Educational Materials Exhibition
URL:https://eflmagazine.com/event/jalt-2023-international-conference/
LOCATION:Tsukuba International Conference Center\, 2-20-3\, Tsukuba City\, Ibaraki\, 305-0032\, Japan
CATEGORIES:Events in Japan
ATTACH;FMTTYPE=image/png:https://eflmagazine.com/wp-content/uploads/2023/11/1.png
ORGANIZER;CN="JALT":MAILTO:https://jalt.org/contact/form
END:VEVENT
BEGIN:VEVENT
DTSTART;TZID=Asia/Tokyo:20231119T090000
DTEND;TZID=Asia/Tokyo:20231119T180000
DTSTAMP:20260420T151204
CREATED:20231107T042219Z
LAST-MODIFIED:20231107T044958Z
UID:43484-1700384400-1700416800@eflmagazine.com
SUMMARY:2023 Kyushu ELT Expo
DESCRIPTION:ETJ Fukuoka (English Teachers in Japan)\n2023 Kyushu ELT Expo\nSpeaker: Various Speakers; call for presentation proposals is open until October 23 \nTime: 9:00 AM – 6:00 PM\nLocation: Fukuoka\nVenue: Seinan Gakuin University\, Building 2\, Nishijin\, Fukuoka (map from Nishijin Subway Station)
URL:https://eflmagazine.com/event/2023-kyushu-elt-expo/
CATEGORIES:Events in Japan
ATTACH;FMTTYPE=image/png:https://eflmagazine.com/wp-content/uploads/2023/11/2-1.png
ORGANIZER;CN="ETJ":MAILTO:http://ltprofessionals.com/contact-etj/
END:VEVENT
END:VCALENDAR